BEGIN:VCALENDAR
VERSION:2.0
PRODID:-//99.3 The River - ECPv4.6.26//NONSGML v1.0//EN
CALSCALE:GREGORIAN
METHOD:PUBLISH
X-WR-CALNAME:99.3 The River
X-ORIGINAL-URL:https://993theriver.com
X-WR-CALDESC:Events for 99.3 The River
BEGIN:VEVENT
DTSTART;TZID=UTC+1:20171014T090000
DTEND;TZID=UTC+1:20171014T130000
DTSTAMP:20260425T113735
CREATED:20171012T190929Z
LAST-MODIFIED:20171012T190929Z
UID:4518-1507971600-1507986000@993theriver.com
SUMMARY:Spotlights and Sequins - Bottle Drive
DESCRIPTION:Spotlights and Sequins Dance Competition Team will be having a bottle drive on Saturday October 14\, 2017 from 9am – 1pm. There areas that will be covered are: \n\nBarnaby Area\nDouglastown Areas – some areas are Century Drive and behind the mall\nNewcastle Areas- Max Aiken to Radio Street\, Kingston to Beaumont and all side streets in between\nChatham Areas- Tanitville subdivisions\, Lebreton Drive and Golden Hawk etc.\nBlackville and Barnettville Areas\n\nPlease help support these young talented dancers. \n
URL:https://993theriver.com/event/spotlights-and-sequins-bottle-drive/
END:VEVENT
END:VCALENDAR