BEGIN:VCALENDAR
VERSION:2.0
PRODID:-//99.3 The River - ECPv4.6.26//NONSGML v1.0//EN
CALSCALE:GREGORIAN
METHOD:PUBLISH
X-WR-CALNAME:99.3 The River
X-ORIGINAL-URL:https://993theriver.com
X-WR-CALDESC:Events for 99.3 The River
BEGIN:VEVENT
DTSTART;VALUE=DATE:20171127
DTEND;VALUE=DATE:20171128
DTSTAMP:20260420T182149
CREATED:20171128T015052Z
LAST-MODIFIED:20171128T015052Z
UID:5291-1511740800-1511827199@993theriver.com
SUMMARY:Sobeys Douglastown Food Drive
DESCRIPTION:\nThe Star of Christmas food drive is on now at Sobeys in Douglastown until November 29th.\nPlease donate a toonie or food.\n\n
URL:https://993theriver.com/event/sobeys-douglastown-food-drive/2017-11-27/
END:VEVENT
END:VCALENDAR