BEGIN:VCALENDAR
VERSION:2.0
PRODID:-//99.3 The River - ECPv4.6.26//NONSGML v1.0//EN
CALSCALE:GREGORIAN
METHOD:PUBLISH
X-WR-CALNAME:99.3 The River
X-ORIGINAL-URL:https://993theriver.com
X-WR-CALDESC:Events for 99.3 The River
BEGIN:VEVENT
DTSTART;VALUE=DATE:20170204
DTEND;VALUE=DATE:20170205
DTSTAMP:20260422T124000
CREATED:20170210T210611Z
LAST-MODIFIED:20170210T210611Z
UID:541-1486166400-1486252799@993theriver.com
SUMMARY:Snowmobile Races
DESCRIPTION:Snowmobile Races at 578 Saint-Pierre Rd\, Rogersville on Saturday\, February 4th. Race will start at noon and admission is $5 per person. Proceeds of this events will be going to the “groomer fund” for the Rogersville Snowmobile Club.\n  \n \n
URL:https://993theriver.com/event/snowmobile-races/
END:VEVENT
END:VCALENDAR