BEGIN:VCALENDAR
VERSION:2.0
PRODID:-//99.3 The River - ECPv4.6.26//NONSGML v1.0//EN
CALSCALE:GREGORIAN
METHOD:PUBLISH
X-WR-CALNAME:99.3 The River
X-ORIGINAL-URL:https://993theriver.com
X-WR-CALDESC:Events for 99.3 The River
BEGIN:VEVENT
DTSTART;TZID=America/Halifax:20260222T140000
DTEND;TZID=America/Halifax:20260222T170000
DTSTAMP:20260425T210548
CREATED:20260209T000821Z
LAST-MODIFIED:20260209T000827Z
UID:25252-1771768800-1771779600@993theriver.com
SUMMARY:Smelt or Bologna Supper
DESCRIPTION:Smelt or Bologna Supper\nSunday\, February 22\, 2026\n2 pm – 5  pm\nFather Morriscy Centre\, Bartibog\nMiramichi Bay smelts or bologna\, potatoes\, peas\, roll\, chow chow\, homemade lemon chiffon pie and coffee/tea\nEat in: $20   Take out:$ 21\nEveryone welcome! \n
URL:https://993theriver.com/event/smelt-or-bologna-supper/
END:VEVENT
END:VCALENDAR