BEGIN:VCALENDAR
VERSION:2.0
PRODID:-//99.3 The River - ECPv4.6.26//NONSGML v1.0//EN
CALSCALE:GREGORIAN
METHOD:PUBLISH
X-WR-CALNAME:99.3 The River
X-ORIGINAL-URL:https://993theriver.com
X-WR-CALDESC:Events for 99.3 The River
BEGIN:VEVENT
DTSTART;TZID=America/Halifax:20190105T110000
DTEND;TZID=America/Halifax:20190105T170000
DTSTAMP:20260425T185710
CREATED:20190102T173637Z
LAST-MODIFIED:20190102T173637Z
UID:7147-1546686000-1546707600@993theriver.com
SUMMARY:Smelt Fry
DESCRIPTION:“All You Can Eat Smelt Fry” \nBaie Ste-Anne Fire Hall \nSaturday\, January 5th \n11 AM to 5 PM \nAdults $10 \nUnder 12 $5 \n
URL:https://993theriver.com/event/smelt-fry-2/
END:VEVENT
END:VCALENDAR