BEGIN:VCALENDAR
VERSION:2.0
PRODID:-//99.3 The River - ECPv4.6.26//NONSGML v1.0//EN
CALSCALE:GREGORIAN
METHOD:PUBLISH
X-WR-CALNAME:99.3 The River
X-ORIGINAL-URL:https://993theriver.com
X-WR-CALDESC:Events for 99.3 The River
BEGIN:VEVENT
DTSTART;TZID=UTC+1:20171013T200000
DTEND;TZID=UTC+1:20171013T230000
DTSTAMP:20260423T153756
CREATED:20171012T192015Z
LAST-MODIFIED:20171012T192015Z
UID:4522-1507924800-1507935600@993theriver.com
SUMMARY:SENIOR'S DANCE
DESCRIPTION:Friendly Neighbours Senior Citizens \n26 Sutton Road Nelson-Miramichi \nFriday Oct 13 2017 \n8 PM – 11 PM \nAdmission $6.00 \nCOUNTRY TORNADOES \nLight Lunch Served \nEveryone 50 and Over Welcome \n
URL:https://993theriver.com/event/seniors-dance-3/
END:VEVENT
END:VCALENDAR