BEGIN:VCALENDAR
VERSION:2.0
PRODID:-//99.3 The River - ECPv4.6.26//NONSGML v1.0//EN
CALSCALE:GREGORIAN
METHOD:PUBLISH
X-WR-CALNAME:99.3 The River
X-ORIGINAL-URL:https://993theriver.com
X-WR-CALDESC:Events for 99.3 The River
BEGIN:VEVENT
DTSTART;TZID=UTC+1:20170922T200000
DTEND;TZID=UTC+1:20170922T230000
DTSTAMP:20260419T173849
CREATED:20170919T032608Z
LAST-MODIFIED:20170919T032608Z
UID:4186-1506110400-1506121200@993theriver.com
SUMMARY:Senior's Dance
DESCRIPTION:Father Morrissey Church Hall \nBartibog Bridge\, NB \nSeptember 22nd \n8 – 11 PM \nMusic by Wild Country \nLight Lunch provided\, everyone welcome \n
URL:https://993theriver.com/event/seniors-dance-2/
END:VEVENT
END:VCALENDAR