BEGIN:VCALENDAR
VERSION:2.0
PRODID:-//99.3 The River - ECPv4.6.26//NONSGML v1.0//EN
CALSCALE:GREGORIAN
METHOD:PUBLISH
X-WR-CALNAME:99.3 The River
X-ORIGINAL-URL:https://993theriver.com
X-WR-CALDESC:Events for 99.3 The River
BEGIN:VEVENT
DTSTART;TZID=America/Halifax:20221216T190000
DTEND;TZID=America/Halifax:20221216T190000
DTSTAMP:20260420T043554
CREATED:20221210T002535Z
LAST-MODIFIED:20221210T002535Z
UID:18443-1671217200-1671217200@993theriver.com
SUMMARY:Scenes From the First Christmas
DESCRIPTION:A Christmas fundraiser for Our Lady of Lourdes parish\, centred around a series of tableau vivant (living pictures) showing important sequences between the Annunciation and the Epiphany. A series of readings\, reflections\, prayer\, and songs will accompany the scenes.Dec. 16 (7pm) at Most Pure Heart of Mary Church in Barnaby RiverDec. 17 (7pm) at St Edward’s Church in ChelmsfordDec. 18 (7pm) at St Patrick’s Church in NelsonDonations for each church will be accepted at the door. A reception with light refreshments will accompany each performance. \n
URL:https://993theriver.com/event/scenes-from-the-first-christmas/2022-12-16/
CATEGORIES:Community Events
END:VEVENT
END:VCALENDAR