BEGIN:VCALENDAR
VERSION:2.0
PRODID:-//99.3 The River - ECPv4.6.26//NONSGML v1.0//EN
CALSCALE:GREGORIAN
METHOD:PUBLISH
X-WR-CALNAME:99.3 The River
X-ORIGINAL-URL:https://993theriver.com
X-WR-CALDESC:Events for 99.3 The River
BEGIN:VEVENT
DTSTART;TZID=America/Halifax:20221217T130000
DTEND;TZID=America/Halifax:20221217T160000
DTSTAMP:20260420T043535
CREATED:20221210T002723Z
LAST-MODIFIED:20221210T002723Z
UID:18447-1671282000-1671292800@993theriver.com
SUMMARY:Santa & Mrs. Claus Join SAM'S Team
DESCRIPTION:Saturday\, December 17th \nPoint Church Newcastle \n1-4 PM \nA fun afternoon with Santa and Mrs. Claus. Entry by donation. \nPictures with Santa by Kaitlyn Jardine Photography\, Bouncy Castle\, Dessert Auction\, a Christmas Silent Auction and more! \nAll proceeds will go towards SAM’S Team to fund portions of private counselling sessions. For more information check out our website https://www.sams-team.com \n
URL:https://993theriver.com/event/santa-mrs-claus-join-sams-team/
CATEGORIES:Fundraiser
END:VEVENT
END:VCALENDAR