BEGIN:VCALENDAR
VERSION:2.0
PRODID:-//99.3 The River - ECPv4.6.26//NONSGML v1.0//EN
CALSCALE:GREGORIAN
METHOD:PUBLISH
X-WR-CALNAME:99.3 The River
X-ORIGINAL-URL:https://993theriver.com
X-WR-CALDESC:Events for 99.3 The River
BEGIN:VEVENT
DTSTART;TZID=America/Halifax:20260104T120000
DTEND;TZID=America/Halifax:20260104T170000
DTSTAMP:20260422T145332
CREATED:20251222T090632Z
LAST-MODIFIED:20251222T090638Z
UID:25039-1767528000-1767546000@993theriver.com
SUMMARY:Royal Canadian Legion Br 10 Miramichi Crib Tournament
DESCRIPTION:RCL Br 10 Miramichi will be hosting it’s bi-monthly Crib Tournament on Sunday\, Jan 4\, 2026 at 345 Campbell Street\, Newcastle. Registration starts at 12 noon with game play at 1 pm. $10.00 registration fee per person plus $2 for the Progressive Jackpot for High Hand of 24 or higher. Bring a partner and come have some fun. \n
URL:https://993theriver.com/event/royal-canadian-legion-br-10-miramichi-crib-tournament/
END:VEVENT
END:VCALENDAR