BEGIN:VCALENDAR
VERSION:2.0
PRODID:-//99.3 The River - ECPv4.6.26//NONSGML v1.0//EN
CALSCALE:GREGORIAN
METHOD:PUBLISH
X-WR-CALNAME:99.3 The River
X-ORIGINAL-URL:https://993theriver.com
X-WR-CALDESC:Events for 99.3 The River
BEGIN:VEVENT
DTSTART;TZID=America/Halifax:20260201T120000
DTEND;TZID=America/Halifax:20260201T170000
DTSTAMP:20260420T195131
CREATED:20260119T093618Z
LAST-MODIFIED:20260119T093634Z
UID:25179-1769947200-1769965200@993theriver.com
SUMMARY:Royal Canadian Legion BR 10 Crib Tournament
DESCRIPTION:\n\n\nThe Royal Canadian Legion Br 10 Miramichi will be holding its next Crib Tournament on Sunday\, Feb 1st at 345 Campbell Street\, Newcastle.. Registration starts at 12 noon with game time at 1 pm. All over 19 welcome. Bring a partner.\n\n\n\n
URL:https://993theriver.com/event/royal-canadian-legion-br-10-crib-tournament/
END:VEVENT
END:VCALENDAR