BEGIN:VCALENDAR
VERSION:2.0
PRODID:-//99.3 The River - ECPv4.6.26//NONSGML v1.0//EN
CALSCALE:GREGORIAN
METHOD:PUBLISH
X-WR-CALNAME:99.3 The River
X-ORIGINAL-URL:https://993theriver.com
X-WR-CALDESC:Events for 99.3 The River
BEGIN:VEVENT
DTSTART;TZID=America/Halifax:20221119T100000
DTEND;TZID=America/Halifax:20221119T140000
DTSTAMP:20260420T074855
CREATED:20221022T131947Z
LAST-MODIFIED:20221022T131947Z
UID:18049-1668852000-1668866400@993theriver.com
SUMMARY:Rogersville Christmas Market
DESCRIPTION:November 19th \n10 am – 2 pm \nCollette Community Hall\, 330 Collette Road \nOver 30 vendors. \n
URL:https://993theriver.com/event/rogersville-christmas-market-2/
CATEGORIES:Community Events
END:VEVENT
END:VCALENDAR