BEGIN:VCALENDAR
VERSION:2.0
PRODID:-//99.3 The River - ECPv4.6.26//NONSGML v1.0//EN
CALSCALE:GREGORIAN
METHOD:PUBLISH
X-WR-CALNAME:99.3 The River
X-ORIGINAL-URL:https://993theriver.com
X-WR-CALDESC:Events for 99.3 The River
BEGIN:VEVENT
DTSTART;TZID=America/Halifax:20191029T080000
DTEND;TZID=America/Halifax:20191029T170000
DTSTAMP:20260420T204941
CREATED:20191029T103227Z
LAST-MODIFIED:20191029T103227Z
UID:9608-1572336000-1572368400@993theriver.com
SUMMARY:Remembrance Day Dinner Theatre (Nov 10th)
DESCRIPTION:Reserve your spot by November 5th \n \n
URL:https://993theriver.com/event/remembrance-day-dinner-theatre-nov-10th/2019-10-29/
END:VEVENT
END:VCALENDAR