BEGIN:VCALENDAR
VERSION:2.0
PRODID:-//99.3 The River - ECPv4.6.26//NONSGML v1.0//EN
CALSCALE:GREGORIAN
METHOD:PUBLISH
X-WR-CALNAME:99.3 The River
X-ORIGINAL-URL:https://993theriver.com
X-WR-CALDESC:Events for 99.3 The River
BEGIN:VEVENT
DTSTART;TZID=America/Halifax:20200822T140000
DTEND;TZID=America/Halifax:20200822T170000
DTSTAMP:20260425T155759
CREATED:20200818T140557Z
LAST-MODIFIED:20200818T140557Z
UID:12151-1598104800-1598115600@993theriver.com
SUMMARY:Remembering Amy
DESCRIPTION:Music and songs at the Blackville Park\nSaturday\, August 22\, 2020. \n2 – 5 PM\nHalf and half draws\nProceeds for Amy Jardine Memorial Fund\nSocial Distancing: Bring your own chairs or stay in your car. Some table space will be available.\nRefreshments available. \n
URL:https://993theriver.com/event/remembering-amy-2/
END:VEVENT
END:VCALENDAR