BEGIN:VCALENDAR
VERSION:2.0
PRODID:-//99.3 The River - ECPv4.6.26//NONSGML v1.0//EN
CALSCALE:GREGORIAN
METHOD:PUBLISH
X-WR-CALNAME:99.3 The River
X-ORIGINAL-URL:https://993theriver.com
X-WR-CALDESC:Events for 99.3 The River
BEGIN:VEVENT
DTSTART;TZID=America/Halifax:20200708T080000
DTEND;TZID=America/Halifax:20200708T170000
DTSTAMP:20260422T155538
CREATED:20200708T173921Z
LAST-MODIFIED:20200708T173921Z
UID:11378-1594195200-1594227600@993theriver.com
SUMMARY:Rain Barrel Truckload Sale (Orders by July 17th)
DESCRIPTION:Royal Canadian Legion Miramichi Branch 10 is hosting a rain barrel truck load sale. For information on how to order go to rainbarrel.ca/rclbranch10/ \nNOTE: orders must be placed by July 17th. \n
URL:https://993theriver.com/event/rain-barrel-truckload-sale-orders-by-july-17th/2020-07-08/
END:VEVENT
END:VCALENDAR