BEGIN:VCALENDAR
VERSION:2.0
PRODID:-//99.3 The River - ECPv4.6.26//NONSGML v1.0//EN
CALSCALE:GREGORIAN
METHOD:PUBLISH
X-WR-CALNAME:99.3 The River
X-ORIGINAL-URL:https://993theriver.com
X-WR-CALDESC:Events for 99.3 The River
BEGIN:VEVENT
DTSTART;TZID=America/Halifax:20250512T080000
DTEND;TZID=America/Halifax:20250601T170000
DTSTAMP:20260422T160853
CREATED:20250512T095018Z
LAST-MODIFIED:20250512T095018Z
UID:24249-1747036800-1748797200@993theriver.com
SUMMARY:Play
DESCRIPTION:Get ready for a rollicking ride of romance\, surprises\, and a dash of danger\, all set against the backdrop of a small-town wedding in 1916!\nCome for the wedding\, stay for the chaos—and the belly laughs! \nJoin us on May 30 in Renous\, at the Miramichi Folklore Park \, May 31 in Newcastle\, at the St. James & St. John United Church Centre\, and June 1 at Nelson Rural School \nTickets ($25 + applicable taxes) available at the door. \n
URL:https://993theriver.com/event/play/
END:VEVENT
END:VCALENDAR