BEGIN:VCALENDAR
VERSION:2.0
PRODID:-//99.3 The River - ECPv4.6.26//NONSGML v1.0//EN
CALSCALE:GREGORIAN
METHOD:PUBLISH
X-WR-CALNAME:99.3 The River
X-ORIGINAL-URL:https://993theriver.com
X-WR-CALDESC:Events for 99.3 The River
BEGIN:VEVENT
DTSTART;VALUE=DATE:20210811
DTEND;VALUE=DATE:20210812
DTSTAMP:20260419T155058
CREATED:20210806T125440Z
LAST-MODIFIED:20210806T125523Z
UID:14992-1628640000-1628726399@993theriver.com
SUMMARY:PERSEID METEOR SHOWER (PEAK)
DESCRIPTION:The Perseid meteor shower runs from around July 17 to Aug. 24\, peaking across Canada tonight (Aug. 11-12\,) according to the International Meteor Organization.\n(Though some sources pin the peak on the night of Aug. 12–13.) \n  \nLOOK UP! \n
URL:https://993theriver.com/event/perseid-meteor-shower-peak/
CATEGORIES:Observances
ATTACH;FMTTYPE=image/jpeg:https://993theriver.com/wp-content/uploads/sites/19/2021/08/photo-1534590140231-3aff793be63a.jpg
END:VEVENT
END:VCALENDAR