BEGIN:VCALENDAR
VERSION:2.0
PRODID:-//99.3 The River - ECPv4.6.26//NONSGML v1.0//EN
CALSCALE:GREGORIAN
METHOD:PUBLISH
X-WR-CALNAME:99.3 The River
X-ORIGINAL-URL:https://993theriver.com
X-WR-CALDESC:Events for 99.3 The River
BEGIN:VEVENT
DTSTART;TZID=America/Halifax:20250512T080000
DTEND;TZID=America/Halifax:20250525T170000
DTSTAMP:20260422T143643
CREATED:20250512T094124Z
LAST-MODIFIED:20250512T094124Z
UID:24245-1747036800-1748192400@993theriver.com
SUMMARY:Percy's Pop-Up Boutique
DESCRIPTION:Percy’s Pop-Up Boutique is Back!\nJoin us for a one-of-a-kind shopping experience at Percy’s Pop-Up Boutique\, happening May 23\, 24 & 25 at Percy’s Grand Hall! \nWhat to Expect:\nA fabulous selection of gently loved clothing for all styles & sizes\nAmazing finds at unbeatable prices—all supporting Percy’s Place Hospice\nA chance to shop sustainably while giving back to \nLocation: Percy’s Grand Hall\nDates & Hours:\nFriday\, May 23 – 4:00 PM to 8:00 PM\nSaturday\, May 24 – 10:00 AM to 5:00 PM\nSunday\, May 25 – 1:00 PM to 4:00 PM \nEvery purchase and donation helps us continue providing care and comfort to those who need it most. Thank you for your support! \nMark your calendars & spread the word! \n
URL:https://993theriver.com/event/percys-pop-up-boutique/
END:VEVENT
END:VCALENDAR