BEGIN:VCALENDAR
VERSION:2.0
PRODID:-//99.3 The River - ECPv4.6.26//NONSGML v1.0//EN
CALSCALE:GREGORIAN
METHOD:PUBLISH
X-WR-CALNAME:99.3 The River
X-ORIGINAL-URL:https://993theriver.com
X-WR-CALDESC:Events for 99.3 The River
BEGIN:VEVENT
DTSTART;TZID=UTC+1:20171126T140000
DTEND;TZID=UTC+1:20171126T140000
DTSTAMP:20260420T194745
CREATED:20171106T031657Z
LAST-MODIFIED:20171123T061803Z
UID:4736-1511704800-1511704800@993theriver.com
SUMMARY:Penny Sale
DESCRIPTION:St. Mary’s Annual Penny Sale\n360 Newcastle Blvd.\nNovember 26th at 2pm\nDoors Open at 1:30pm\nOver 140 prizes to be won! \n
URL:https://993theriver.com/event/penny-sale/
END:VEVENT
END:VCALENDAR