BEGIN:VCALENDAR
VERSION:2.0
PRODID:-//99.3 The River - ECPv4.6.26//NONSGML v1.0//EN
CALSCALE:GREGORIAN
METHOD:PUBLISH
X-WR-CALNAME:99.3 The River
X-ORIGINAL-URL:https://993theriver.com
X-WR-CALDESC:Events for 99.3 The River
BEGIN:VEVENT
DTSTART;TZID=America/Halifax:20191116T130000
DTEND;TZID=America/Halifax:20191116T160000
DTSTAMP:20260422T155204
CREATED:20191114T135002Z
LAST-MODIFIED:20191114T135002Z
UID:9745-1573909200-1573920000@993theriver.com
SUMMARY:Penny Sale
DESCRIPTION:Legion 3 Chatham \nSaturday November 16th \n1 to 4pm. \nCome on out and win some great prizes while supporting your local legion. \n
URL:https://993theriver.com/event/penny-sale-3/
END:VEVENT
END:VCALENDAR