BEGIN:VCALENDAR
VERSION:2.0
PRODID:-//99.3 The River - ECPv4.6.26//NONSGML v1.0//EN
CALSCALE:GREGORIAN
METHOD:PUBLISH
X-WR-CALNAME:99.3 The River
X-ORIGINAL-URL:https://993theriver.com
X-WR-CALDESC:Events for 99.3 The River
BEGIN:VEVENT
DTSTART;TZID=America/Halifax:20171201T180000
DTEND;TZID=America/Halifax:20171201T180000
DTSTAMP:20260421T204349
CREATED:20171128T015313Z
LAST-MODIFIED:20171128T015313Z
UID:5296-1512151200-1512151200@993theriver.com
SUMMARY:Parade of Lights Reception
DESCRIPTION:The 32nd Annual Parade of lights starts at 6:30 PM on Friday\, December 1st! \nJoin the Miramichi Regional Multicultural Association to celebrate! \nHot chocolate and sweets will be served! \nDoors will be open at 6:00 PM at 1808 Water Street. (across from the Rodd) \n
URL:https://993theriver.com/event/parade-of-lights-reception/
END:VEVENT
END:VCALENDAR