BEGIN:VCALENDAR
VERSION:2.0
PRODID:-//99.3 The River - ECPv4.6.26//NONSGML v1.0//EN
CALSCALE:GREGORIAN
METHOD:PUBLISH
X-WR-CALNAME:99.3 The River
X-ORIGINAL-URL:https://993theriver.com
X-WR-CALDESC:Events for 99.3 The River
BEGIN:VEVENT
DTSTART;TZID=America/Halifax:20190305T160000
DTEND;TZID=America/Halifax:20190305T180000
DTSTAMP:20260422T131127
CREATED:20190225T182522Z
LAST-MODIFIED:20190303T020518Z
UID:7334-1551801600-1551808800@993theriver.com
SUMMARY:Pancake Supper
DESCRIPTION:Tuesday\, March 5th from 4 pm to 6 pm\nFather Morriscy Centre\, 88 Bartibog Church Road\, Bartibog Bridge\nPancakes\, sausages and baked beans served with a beverage.\nAdults – $7; Youth (Under 12) – $Free.\nEveryone welcome!! \n
URL:https://993theriver.com/event/pancake-supper-shrove-tuesday/
END:VEVENT
END:VCALENDAR