BEGIN:VCALENDAR
VERSION:2.0
PRODID:-//99.3 The River - ECPv4.6.26//NONSGML v1.0//EN
CALSCALE:GREGORIAN
METHOD:PUBLISH
X-WR-CALNAME:99.3 The River
X-ORIGINAL-URL:https://993theriver.com
X-WR-CALDESC:Events for 99.3 The River
BEGIN:VEVENT
DTSTART;TZID=America/Halifax:20250224T080000
DTEND;TZID=America/Halifax:20250304T170000
DTSTAMP:20260421T204217
CREATED:20250224T101257Z
LAST-MODIFIED:20250224T101257Z
UID:23847-1740384000-1741107600@993theriver.com
SUMMARY:Pancake supper
DESCRIPTION:Shrove Tuesday Pancake Supper … will be held at Father Morriscy Centre\, Bartibog\, on  Tuesday\, March 4th from 4 – 6 pm. On the menu is pancakes\, sausages\, homemade beans\, dessert and coffee/tea or juice. Adult: $10 and Children: $5. Everyone welcome. \n
URL:https://993theriver.com/event/pancake-supper-18/
END:VEVENT
END:VCALENDAR