BEGIN:VCALENDAR
VERSION:2.0
PRODID:-//99.3 The River - ECPv4.6.26//NONSGML v1.0//EN
CALSCALE:GREGORIAN
METHOD:PUBLISH
X-WR-CALNAME:99.3 The River
X-ORIGINAL-URL:https://993theriver.com
X-WR-CALDESC:Events for 99.3 The River
BEGIN:VEVENT
DTSTART;TZID=America/Halifax:20240213T160000
DTEND;TZID=America/Halifax:20240213T180000
DTSTAMP:20260425T113104
CREATED:20240210T142201Z
LAST-MODIFIED:20240210T142201Z
UID:21050-1707840000-1707847200@993theriver.com
SUMMARY:Pancake Supper
DESCRIPTION:Tuesday\, Feb 13th\n4-6PM\nSt John the Evangelist Church in Bay du Vin\nPancakes\, Sausage & Bacon also Baked Beans & Apple Crisp\nDonations at the Door- Take out Available \n
URL:https://993theriver.com/event/pancake-supper-12/
CATEGORIES:Community Events
END:VEVENT
END:VCALENDAR