BEGIN:VCALENDAR
VERSION:2.0
PRODID:-//99.3 The River - ECPv4.6.26//NONSGML v1.0//EN
CALSCALE:GREGORIAN
METHOD:PUBLISH
X-WR-CALNAME:99.3 The River
X-ORIGINAL-URL:https://993theriver.com
X-WR-CALDESC:Events for 99.3 The River
BEGIN:VEVENT
DTSTART;TZID=America/Halifax:20260422T183000
DTEND;TZID=America/Halifax:20260422T210000
DTSTAMP:20260422T154728
CREATED:20260421T081404Z
LAST-MODIFIED:20260421T081408Z
UID:25535-1776882600-1776891600@993theriver.com
SUMMARY:Open Mic Music Jams
DESCRIPTION:\n\n\nMusic Open Mic shows this Wed\, Apr 22 in Blackville at United Church Hall ; and Thursday night in former Chatham at Knights of Columbus Hall on King Street …6:30 starts Admit $5.00 includes a lunch .\n\n\n\n
URL:https://993theriver.com/event/open-mic-music-jams-5/
END:VEVENT
END:VCALENDAR