BEGIN:VCALENDAR
VERSION:2.0
PRODID:-//99.3 The River - ECPv4.6.26//NONSGML v1.0//EN
CALSCALE:GREGORIAN
METHOD:PUBLISH
X-WR-CALNAME:99.3 The River
X-ORIGINAL-URL:https://993theriver.com
X-WR-CALDESC:Events for 99.3 The River
BEGIN:VEVENT
DTSTART;TZID=America/Halifax:20260121T183000
DTEND;TZID=America/Halifax:20260121T210000
DTSTAMP:20260423T125300
CREATED:20260119T093432Z
LAST-MODIFIED:20260119T093449Z
UID:25177-1769020200-1769029200@993theriver.com
SUMMARY:Open Mic Music Jam
DESCRIPTION:Newcastle Legion branch # 10 will be holding an open mic music jam on Wed\, Jan 21st\, from 6:30 till 9 P\,M. The back up band is Blue Moon \, entry is $ 5.00 . Bring an instrument \, bring your voice and join us \, Thursday night The Sheppy Arbeau band hosts an open mic at the Knights of Columbus Hall in Chatham \, with a 6:30 start. \n
URL:https://993theriver.com/event/open-mic-music-jam/
END:VEVENT
END:VCALENDAR