BEGIN:VCALENDAR
VERSION:2.0
PRODID:-//99.3 The River - ECPv4.6.26//NONSGML v1.0//EN
CALSCALE:GREGORIAN
METHOD:PUBLISH
X-WR-CALNAME:99.3 The River
X-ORIGINAL-URL:https://993theriver.com
X-WR-CALDESC:Events for 99.3 The River
BEGIN:VEVENT
DTSTART;TZID=America/Halifax:20221127T210000
DTEND;TZID=America/Halifax:20221127T210000
DTSTAMP:20260420T074838
CREATED:20221127T151728Z
LAST-MODIFIED:20221127T151728Z
UID:18341-1669582800-1669582800@993theriver.com
SUMMARY:New Year's Dance
DESCRIPTION:Island View Senior will be having a New Years Dance \nLions Club in Sunny Corner \n9 PM to 12:30 \nMusic by Family Sound \n$15.00 per person \nTickets can be purchased from Billy Hubbard -622-8862 \n  \n
URL:https://993theriver.com/event/new-years-dance/2022-11-27/
CATEGORIES:Entertainment
END:VEVENT
END:VCALENDAR