BEGIN:VCALENDAR
VERSION:2.0
PRODID:-//99.3 The River - ECPv4.6.26//NONSGML v1.0//EN
CALSCALE:GREGORIAN
METHOD:PUBLISH
X-WR-CALNAME:99.3 The River
X-ORIGINAL-URL:https://993theriver.com
X-WR-CALDESC:Events for 99.3 The River
BEGIN:VEVENT
DTSTART;VALUE=DATE:20181027
DTEND;VALUE=DATE:20181028
DTSTAMP:20260422T142112
CREATED:20181002T152322Z
LAST-MODIFIED:20181002T152723Z
UID:6549-1540598400-1540684799@993theriver.com
SUMMARY:NB Homecoming Comedy Tour
DESCRIPTION:Starring: Tim Steeves\, Julien Dionne & Andrew Albert \nThe Vogue Theatre\nSaturday\, October 27th @ 7:30 pm \nHubCap Comedy Festival is proud to present the New Brunswick Homecoming Comedy Tour starring three of our most successful prodigal son’s returning home from Upper Canada and the west to share some laughs in their hometowns and all around our Province. The tour runs from October 18 – 27\, 2018 and includes stops in Moncton\, Saint John\, Fredericton\, Edmundston\, Dalhousie and Miramichi. The boys are back in town for a down-home-kitchen-party so don’t miss out on all the fun! \nTim Steeves\nhttp://www.timsteeves.ca/\nJulien Dionne\nhttps://juliendionne.com/\nAndrew Albert\nhttp://www.andrewalbert.info/ \n*Show contains some language & adult content. \nFor tickets or more information:\nwww.hubcappromotions.ca/on-tour/\nTour Office: 1-888-855-8522 \n
URL:https://993theriver.com/event/nb-homecoming-comedy-tour/
ATTACH;FMTTYPE=image/jpeg:https://993theriver.com/wp-content/uploads/sites/19/2018/10/comedy-tour-river-1.jpg
END:VEVENT
END:VCALENDAR