BEGIN:VCALENDAR
VERSION:2.0
PRODID:-//99.3 The River - ECPv4.6.26//NONSGML v1.0//EN
CALSCALE:GREGORIAN
METHOD:PUBLISH
X-WR-CALNAME:99.3 The River
X-ORIGINAL-URL:https://993theriver.com
X-WR-CALDESC:Events for 99.3 The River
BEGIN:VEVENT
DTSTART;TZID=America/Halifax:20180825T181500
DTEND;TZID=America/Halifax:20180825T181500
DTSTAMP:20260419T140939
CREATED:20180828T115735Z
LAST-MODIFIED:20180828T115735Z
UID:6288-1535220900-1535220900@993theriver.com
SUMMARY:NB Genealogical Society - Miramichi Meeting
DESCRIPTION:The Miramichi Branch of the New Brunswick Genealogical Society will hold a meeting Tuesday\, September 25 at 6:15 pm at the Chatham Public Library conference room. Since it is the first meeting of the new season\, we will have a Meet ‘n’ Greet to welcome back the membership as well as guests and visitors. Besides getting an update on news and upcoming events\, we would like to share who or what we may have ;discovered’ on our summer holidays. This would be a good opportunity to network with each other and guests and visitors. We have a lot of information to share about the folks of the past.\nNBGS holds a meeting on the 4th Tuesday of each month at the Library with the exception of December\, June\, July and August. \n
URL:https://993theriver.com/event/nb-genealogical-society-miramichi-meeting/
END:VEVENT
END:VCALENDAR