BEGIN:VCALENDAR
VERSION:2.0
PRODID:-//99.3 The River - ECPv4.6.26//NONSGML v1.0//EN
CALSCALE:GREGORIAN
METHOD:PUBLISH
X-WR-CALNAME:99.3 The River
X-ORIGINAL-URL:https://993theriver.com
X-WR-CALDESC:Events for 99.3 The River
BEGIN:VEVENT
DTSTART;VALUE=DATE:20230811
DTEND;VALUE=DATE:20230812
DTSTAMP:20260419T165902
CREATED:20230731T134401Z
LAST-MODIFIED:20230731T134401Z
UID:19643-1691712000-1691798399@993theriver.com
SUMMARY:Napan Agricultural Show - Aug 11th Schedule
DESCRIPTION: \n
URL:https://993theriver.com/event/napan-agricultural-show-aug-11th-schedule/
CATEGORIES:Community Events,Entertainment
END:VEVENT
END:VCALENDAR