BEGIN:VCALENDAR
VERSION:2.0
PRODID:-//99.3 The River - ECPv4.6.26//NONSGML v1.0//EN
CALSCALE:GREGORIAN
METHOD:PUBLISH
X-WR-CALNAME:99.3 The River
X-ORIGINAL-URL:https://993theriver.com
X-WR-CALDESC:Events for 99.3 The River
BEGIN:VEVENT
DTSTART;TZID=America/Halifax:20190327T190000
DTEND;TZID=America/Halifax:20190327T190000
DTSTAMP:20260419T141005
CREATED:20190313T170900Z
LAST-MODIFIED:20190313T170900Z
UID:7461-1553713200-1553713200@993theriver.com
SUMMARY:MVHS Drama Club - Twentieth Century
DESCRIPTION:The MVHS Drama Club presents the classic Broadway comedy Twentieth Century\, adapted by Ken Ludwig. \nShow dates are March 27-31 @ 7PM (MVHS Theatre). Tickets are $15 and are available at the door or by calling 627-4083. \nGet your ticket and hop aboard the Twentieth Century Limited for a non stop train ride full of laughter and thrills! \n
URL:https://993theriver.com/event/mvhs-drama-club-twentieth-century/2019-03-27/
END:VEVENT
END:VCALENDAR