BEGIN:VCALENDAR
VERSION:2.0
PRODID:-//99.3 The River - ECPv4.6.26//NONSGML v1.0//EN
CALSCALE:GREGORIAN
METHOD:PUBLISH
X-WR-CALNAME:99.3 The River
X-ORIGINAL-URL:https://993theriver.com
X-WR-CALDESC:Events for 99.3 The River
BEGIN:VEVENT
DTSTART;TZID=America/Halifax:20250624T190000
DTEND;TZID=America/Halifax:20250624T190000
DTSTAMP:20260421T012003
CREATED:20250602T115149Z
LAST-MODIFIED:20250602T115149Z
UID:24398-1750791600-1750791600@993theriver.com
SUMMARY:MVHS Class of 80 Reunion (June 27 - 29)
DESCRIPTION:MVHS Class of 80 Reunion \nAlumni\, Friends\, Family and Teachers are invited to join our 45th reunion weekend June 27th-29th. \nThe event will kick off with a social evening at the Nordin Rec Centre on Friday\, June 27th at 7 PM. For more information please check out the Facebook Page (MVHS class of 80 2025) or\nemail Jenmitchell@rogers.com \n
URL:https://993theriver.com/event/mvhs-class-of-80-reunion/2025-06-24/
CATEGORIES:Community Events
END:VEVENT
END:VCALENDAR