BEGIN:VCALENDAR
VERSION:2.0
PRODID:-//99.3 The River - ECPv4.6.26//NONSGML v1.0//EN
CALSCALE:GREGORIAN
METHOD:PUBLISH
X-WR-CALNAME:99.3 The River
X-ORIGINAL-URL:https://993theriver.com
X-WR-CALDESC:Events for 99.3 The River
BEGIN:VEVENT
DTSTART;TZID=America/Halifax:20210508T100000
DTEND;TZID=America/Halifax:20210508T140000
DTSTAMP:20260421T224111
CREATED:20210419T180108Z
LAST-MODIFIED:20210419T180220Z
UID:14369-1620468000-1620482400@993theriver.com
SUMMARY:MVHS Bottle Drive
DESCRIPTION:\nThe MVHS Class of 2021 will be having a bottle drive on Saturday\, May 8.  If you have bottles that you would like to donate\, please call the school at 627-4083 and we will arrange a pick up time at your house. Please leave your bottles outside for the pick up.  If you would like to drop off your bottles yourself\, there will be a container at the industrial side of the school on May 8 from 10am until 2pm.\n\nWe also have an open account at Miramichi City Surplus\, which is located about 1km past the Enclosure in Lower Derby.  If you have bottles that you would like to donate\, please take them to Miramichi City Surplus and ask the proceeds to go toward the MVHS Grad Committee.  Bottles can be dropped off at Miramichi City Surplus for the entire year.  \n\nPickups are restricted to the west side of the city in the Newcastle/Douglastown area.\n
URL:https://993theriver.com/event/mvhs-bottle-drive-4/
CATEGORIES:Fundraiser
END:VEVENT
END:VCALENDAR