BEGIN:VCALENDAR
VERSION:2.0
PRODID:-//99.3 The River - ECPv4.6.26//NONSGML v1.0//EN
CALSCALE:GREGORIAN
METHOD:PUBLISH
X-WR-CALNAME:99.3 The River
X-ORIGINAL-URL:https://993theriver.com
X-WR-CALDESC:Events for 99.3 The River
BEGIN:VEVENT
DTSTART;TZID=America/Halifax:20250429T130000
DTEND;TZID=America/Halifax:20250429T150000
DTSTAMP:20260422T002932
CREATED:20250428T222217Z
LAST-MODIFIED:20250428T222217Z
UID:24182-1745931600-1745938800@993theriver.com
SUMMARY:Mother's Day Princess Tea (May 10th)
DESCRIPTION:Kindertots Children’s Centre will be hosting a Mother’s Day Princess Tea \nSaturday\, May 10 at 1pm to 3pm at Tyra’s Infinity Centre. \nJoin our Disney Princesses for an afternoon of fun. \nTo purchase tickets or for more information call Kindertots at 506-778-3936. Advance tickets only. \n
URL:https://993theriver.com/event/mothers-day-princess-tea-may-10th/2025-04-29/
CATEGORIES:Family Events
END:VEVENT
END:VCALENDAR