BEGIN:VCALENDAR
VERSION:2.0
PRODID:-//99.3 The River - ECPv4.6.26//NONSGML v1.0//EN
CALSCALE:GREGORIAN
METHOD:PUBLISH
X-WR-CALNAME:99.3 The River
X-ORIGINAL-URL:https://993theriver.com
X-WR-CALDESC:Events for 99.3 The River
BEGIN:VEVENT
DTSTART;TZID=America/Halifax:20180823T170000
DTEND;TZID=America/Halifax:20180823T210000
DTSTAMP:20260422T145004
CREATED:20180822T170306Z
LAST-MODIFIED:20180822T170306Z
UID:6276-1535043600-1535058000@993theriver.com
SUMMARY:Mosquito Triple A Twins Fundraiser
DESCRIPTION:The Enclosure is having a Fundraiser for the Mosquito Triple A Twins on Thursday\, August 23rd from 5PM – 9PM. It is a spaghetti dinner and silent auction. The fundraiser is to raise funds for them to go the Atlantics in Newfoundland. Take out available. The kids will be serving the meals. \n
URL:https://993theriver.com/event/mosquito-triple-a-twins-fundraiser/
END:VEVENT
END:VCALENDAR