BEGIN:VCALENDAR
VERSION:2.0
PRODID:-//99.3 The River - ECPv4.6.26//NONSGML v1.0//EN
CALSCALE:GREGORIAN
METHOD:PUBLISH
X-WR-CALNAME:99.3 The River
X-ORIGINAL-URL:https://993theriver.com
X-WR-CALDESC:Events for 99.3 The River
BEGIN:VEVENT
DTSTART;TZID=America/Halifax:20190322T200000
DTEND;TZID=America/Halifax:20190322T230000
DTSTAMP:20260421T190544
CREATED:20190319T145255Z
LAST-MODIFIED:20190319T145255Z
UID:7504-1553284800-1553295600@993theriver.com
SUMMARY:Monthly Seniors Dance
DESCRIPTION:Father Morrissey Church Hall in Bartibog Bridge \nFriday March 22nd from 8pm-11pm featuring WILD COUNTRY . \nEveryone is welcome and a light lunch is provided. \n
URL:https://993theriver.com/event/monthly-seniors-dance-4/
END:VEVENT
END:VCALENDAR