BEGIN:VCALENDAR
VERSION:2.0
PRODID:-//99.3 The River - ECPv4.6.26//NONSGML v1.0//EN
CALSCALE:GREGORIAN
METHOD:PUBLISH
X-WR-CALNAME:99.3 The River
X-ORIGINAL-URL:https://993theriver.com
X-WR-CALDESC:Events for 99.3 The River
BEGIN:VEVENT
DTSTART;TZID=America/Halifax:20220925T080000
DTEND;TZID=America/Halifax:20220925T130000
DTSTAMP:20260422T171744
CREATED:20220917T010118Z
LAST-MODIFIED:20220917T010118Z
UID:17864-1664092800-1664110800@993theriver.com
SUMMARY:Monthly Breakfast
DESCRIPTION:Knights of Columbus Council 8381\, in Nelson\, Monthly Funding Raising Breakfast \nSeniors Hall located – 26 Sutton Road \nSunday\, September 25\, 2022 \n8:00 AM to 1:00 PM \nCost is $8.00 for adults \n$5.00 for children and a Family Rate is $20.00 \nfor Take-outs call 622-1010. \nAll are welcome and the Knights greatly appreciate your support. \n
URL:https://993theriver.com/event/monthly-breakfast-5/
CATEGORIES:Fundraiser
END:VEVENT
END:VCALENDAR