BEGIN:VCALENDAR
VERSION:2.0
PRODID:-//99.3 The River - ECPv4.6.26//NONSGML v1.0//EN
CALSCALE:GREGORIAN
METHOD:PUBLISH
X-WR-CALNAME:99.3 The River
X-ORIGINAL-URL:https://993theriver.com
X-WR-CALDESC:Events for 99.3 The River
BEGIN:VEVENT
DTSTART;TZID=America/Halifax:20221211T120000
DTEND;TZID=America/Halifax:20221211T160000
DTSTAMP:20260420T061143
CREATED:20221210T001620Z
LAST-MODIFIED:20221210T001620Z
UID:18434-1670760000-1670774400@993theriver.com
SUMMARY:Miramichi Valley High School Market
DESCRIPTION:Sunday\, December 11th from 12pm to 4pm. \nNew and returning vendors. Lots of items from local vendors\, handmade treasures\, and treats! Coffee\, tea\, and beverages will be available. \nFree admission! \n
URL:https://993theriver.com/event/miramichi-valley-high-school-market/
CATEGORIES:Community Events
END:VEVENT
END:VCALENDAR