BEGIN:VCALENDAR
VERSION:2.0
PRODID:-//99.3 The River - ECPv4.6.26//NONSGML v1.0//EN
CALSCALE:GREGORIAN
METHOD:PUBLISH
X-WR-CALNAME:99.3 The River
X-ORIGINAL-URL:https://993theriver.com
X-WR-CALDESC:Events for 99.3 The River
BEGIN:VEVENT
DTSTART;TZID=America/Halifax:20230517T080000
DTEND;TZID=America/Halifax:20230602T170000
DTSTAMP:20260419T215845
CREATED:20230517T133819Z
LAST-MODIFIED:20230517T133819Z
UID:19298-1684310400-1685725200@993theriver.com
SUMMARY:Miramichi Song Writers Circle
DESCRIPTION:A Miramichi Song Writers Circle to raise funds for Alzheimer’s is being held on June 2nd at the James M. Hill Theatre. Doors open at 6 pm\, show begins at 7 pm. Tickets are available at the door for $15 each. Live music from Jack Bowie\, Wade Hallihan\, Terry Whalen and Amber Walls. \n
URL:https://993theriver.com/event/miramichi-song-writers-circle/
END:VEVENT
END:VCALENDAR