BEGIN:VCALENDAR
VERSION:2.0
PRODID:-//99.3 The River - ECPv4.6.26//NONSGML v1.0//EN
CALSCALE:GREGORIAN
METHOD:PUBLISH
X-WR-CALNAME:99.3 The River
X-ORIGINAL-URL:https://993theriver.com
X-WR-CALDESC:Events for 99.3 The River
BEGIN:VEVENT
DTSTART;TZID=America/Halifax:20190912T190000
DTEND;TZID=America/Halifax:20190912T190000
DTSTAMP:20260424T111755
CREATED:20190910T005608Z
LAST-MODIFIED:20190910T005608Z
UID:9036-1568314800-1568314800@993theriver.com
SUMMARY:Miramichi Garden Club
DESCRIPTION:🍂The Miramichi Garden Club Meeting \nThursday\, September 12th \n7 pm \nNordin Recreation Center. \nPlease bring your plants (indoor and outdoor)\, shrubs\, vegetables\, fruit\, preserves\, baked goods\, crafts and garden items (e.g. tools\, decorations\, etc.) for our annual Fall Harvest Sale. \n
URL:https://993theriver.com/event/miramichi-garden-club/
END:VEVENT
END:VCALENDAR