BEGIN:VCALENDAR
VERSION:2.0
PRODID:-//99.3 The River - ECPv4.6.26//NONSGML v1.0//EN
CALSCALE:GREGORIAN
METHOD:PUBLISH
X-WR-CALNAME:99.3 The River
X-ORIGINAL-URL:https://993theriver.com
X-WR-CALDESC:Events for 99.3 The River
BEGIN:VEVENT
DTSTART;TZID=America/Halifax:20190214T190000
DTEND;TZID=America/Halifax:20190214T190000
DTSTAMP:20260421T175238
CREATED:20190214T011742Z
LAST-MODIFIED:20190214T011742Z
UID:7289-1550170800-1550170800@993theriver.com
SUMMARY:Miramichi Garden Club meeting
DESCRIPTION:Thursday\, Feb 14/19 at 7 PM \nNordin Rec Center \nGuest speaker Dr. Scott McFarlane will be speaking on “The Captivating Life of Bees!” – come and bring your friends! \n
URL:https://993theriver.com/event/miramichi-garden-club-meeting-2/
END:VEVENT
END:VCALENDAR