BEGIN:VCALENDAR
VERSION:2.0
PRODID:-//99.3 The River - ECPv4.6.26//NONSGML v1.0//EN
CALSCALE:GREGORIAN
METHOD:PUBLISH
X-WR-CALNAME:99.3 The River
X-ORIGINAL-URL:https://993theriver.com
X-WR-CALDESC:Events for 99.3 The River
BEGIN:VEVENT
DTSTART;VALUE=DATE:20170804
DTEND;VALUE=DATE:20170805
DTSTAMP:20260421T131026
CREATED:20170731T152024Z
LAST-MODIFIED:20170731T152024Z
UID:3646-1501804800-1501891199@993theriver.com
SUMMARY:Middle Island Irish Heritage Festival
DESCRIPTION: \n
URL:https://993theriver.com/event/middle-island-irish-heritage-festival-2/2017-08-04/
END:VEVENT
END:VCALENDAR