BEGIN:VCALENDAR
VERSION:2.0
PRODID:-//99.3 The River - ECPv4.6.26//NONSGML v1.0//EN
CALSCALE:GREGORIAN
METHOD:PUBLISH
X-WR-CALNAME:99.3 The River
X-ORIGINAL-URL:https://993theriver.com
X-WR-CALDESC:Events for 99.3 The River
BEGIN:VEVENT
DTSTART;TZID=America/Halifax:20220801T130000
DTEND;TZID=America/Halifax:20220801T160000
DTSTAMP:20260421T173818
CREATED:20220727T175214Z
LAST-MODIFIED:20220727T175214Z
UID:17539-1659358800-1659369600@993theriver.com
SUMMARY:Middle Island Family Picnic
DESCRIPTION: \n
URL:https://993theriver.com/event/middle-island-family-picnic/
CATEGORIES:Family Events
END:VEVENT
END:VCALENDAR