BEGIN:VCALENDAR
VERSION:2.0
PRODID:-//99.3 The River - ECPv4.6.26//NONSGML v1.0//EN
CALSCALE:GREGORIAN
METHOD:PUBLISH
X-WR-CALNAME:99.3 The River
X-ORIGINAL-URL:https://993theriver.com
X-WR-CALDESC:Events for 99.3 The River
BEGIN:VEVENT
DTSTART;VALUE=DATE:20230729
DTEND;VALUE=DATE:20230730
DTSTAMP:20260419T170047
CREATED:20230729T123117Z
LAST-MODIFIED:20230729T123117Z
UID:19628-1690588800-1690675199@993theriver.com
SUMMARY:Metepenagiag Pow Wow
DESCRIPTION: \n
URL:https://993theriver.com/event/metepenagiag-pow-wow/2023-07-29/
CATEGORIES:Community Events
END:VEVENT
END:VCALENDAR