BEGIN:VCALENDAR
VERSION:2.0
PRODID:-//99.3 The River - ECPv4.6.26//NONSGML v1.0//EN
CALSCALE:GREGORIAN
METHOD:PUBLISH
X-WR-CALNAME:99.3 The River
X-ORIGINAL-URL:https://993theriver.com
X-WR-CALDESC:Events for 99.3 The River
BEGIN:VEVENT
DTSTART;TZID=UTC+1:20170617T140000
DTEND;TZID=UTC+1:20170617T140000
DTSTAMP:20260422T142030
CREATED:20170613T213140Z
LAST-MODIFIED:20170613T213140Z
UID:3144-1497708000-1497708000@993theriver.com
SUMMARY:Merchandise Bingo
DESCRIPTION: \n
URL:https://993theriver.com/event/merchandise-bingo/
END:VEVENT
END:VCALENDAR