BEGIN:VCALENDAR
VERSION:2.0
PRODID:-//99.3 The River - ECPv4.6.26//NONSGML v1.0//EN
CALSCALE:GREGORIAN
METHOD:PUBLISH
X-WR-CALNAME:99.3 The River
X-ORIGINAL-URL:https://993theriver.com
X-WR-CALDESC:Events for 99.3 The River
BEGIN:VEVENT
DTSTART;TZID=America/Halifax:20180819T140000
DTEND;TZID=America/Halifax:20180819T140000
DTSTAMP:20260422T142210
CREATED:20180813T153517Z
LAST-MODIFIED:20180813T153517Z
UID:6111-1534687200-1534687200@993theriver.com
SUMMARY:Merchandise Bingo and Bake Sale
DESCRIPTION:Eel Ground Band Hall \nSunday\, August 19th at 2pm for Tyson Cooper whom is currently fighting Lymphoma (cancer). \nEveryone welcome! \n
URL:https://993theriver.com/event/merchandise-bingo-and-bake-sale/
END:VEVENT
END:VCALENDAR