BEGIN:VCALENDAR
VERSION:2.0
PRODID:-//99.3 The River - ECPv4.6.26//NONSGML v1.0//EN
CALSCALE:GREGORIAN
METHOD:PUBLISH
X-WR-CALNAME:99.3 The River
X-ORIGINAL-URL:https://993theriver.com
X-WR-CALDESC:Events for 99.3 The River
BEGIN:VEVENT
DTSTART;TZID=America/Halifax:20191209T190000
DTEND;TZID=America/Halifax:20191209T190000
DTSTAMP:20260419T141907
CREATED:20191204T153216Z
LAST-MODIFIED:20191204T153216Z
UID:9886-1575918000-1575918000@993theriver.com
SUMMARY:Memorial Christmas Tree Lighting
DESCRIPTION:Sunny Corner Volunteer Fire Department \nMonday\, December 9 \n7 p.m. \nBulbs are $5 each. from members of the fire department\, at Sunny Corner or Paula Hare (836-2668–leave a message.) \nRefreshments in the fire hall following the tree dedication. \n
URL:https://993theriver.com/event/memorial-christmas-tree-lighting/
END:VEVENT
END:VCALENDAR