BEGIN:VCALENDAR
VERSION:2.0
PRODID:-//99.3 The River - ECPv4.6.26//NONSGML v1.0//EN
CALSCALE:GREGORIAN
METHOD:PUBLISH
X-WR-CALNAME:99.3 The River
X-ORIGINAL-URL:https://993theriver.com
X-WR-CALDESC:Events for 99.3 The River
BEGIN:VEVENT
DTSTART;TZID=America/Halifax:20230727T130000
DTEND;TZID=America/Halifax:20230727T150000
DTSTAMP:20260419T165954
CREATED:20230726T141548Z
LAST-MODIFIED:20230728T004810Z
UID:19587-1690462800-1690470000@993theriver.com
SUMMARY:MADD Miramichi General Meeting (Aug 5th)
DESCRIPTION:\n\n\nUpcoming Annual General Meeting Saturday August 5 2023 1-3pm Knights of Columbus 345 Campbell Street Miramichi NB All is welcome to join us !\n\n\n\n
URL:https://993theriver.com/event/madd-miramichi-general-meeting/2023-07-27/
CATEGORIES:Community Events
END:VEVENT
END:VCALENDAR