BEGIN:VCALENDAR
VERSION:2.0
PRODID:-//99.3 The River - ECPv4.6.26//NONSGML v1.0//EN
CALSCALE:GREGORIAN
METHOD:PUBLISH
X-WR-CALNAME:99.3 The River
X-ORIGINAL-URL:https://993theriver.com
X-WR-CALDESC:Events for 99.3 The River
BEGIN:VEVENT
DTSTART;TZID=America/Halifax:20220804T183000
DTEND;TZID=America/Halifax:20220804T183000
DTSTAMP:20260421T144346
CREATED:20220719T172459Z
LAST-MODIFIED:20220719T172459Z
UID:17512-1659637800-1659637800@993theriver.com
SUMMARY:MADD Miramichi Annual General Meeting
DESCRIPTION: \n
URL:https://993theriver.com/event/madd-miramichi-annual-general-meeting/
CATEGORIES:Community
END:VEVENT
END:VCALENDAR