BEGIN:VCALENDAR
VERSION:2.0
PRODID:-//99.3 The River - ECPv4.6.26//NONSGML v1.0//EN
CALSCALE:GREGORIAN
METHOD:PUBLISH
X-WR-CALNAME:99.3 The River
X-ORIGINAL-URL:https://993theriver.com
X-WR-CALDESC:Events for 99.3 The River
BEGIN:VEVENT
DTSTART;TZID=America/Halifax:20181020T090000
DTEND;TZID=America/Halifax:20181020T180000
DTSTAMP:20260419T165934
CREATED:20181010T165811Z
LAST-MODIFIED:20181010T165811Z
UID:6587-1540026000-1540058400@993theriver.com
SUMMARY:Lockerbie's Pumpkin Sale
DESCRIPTION:On Saturday\, October 20 and Sunday\, October 21 from 9:00 am to 6:00 pm\, Lockerbie’s Vegetable Stand will sell bright orange pumpkins and support the Miramichi Regional Hospital Foundation with their efforts to enhance local health care services. \nLockerbie’s is located on Wellington Street\, going towards Loggieville\, on the left hand side of the road. \nA portion of the total sales will support the Hospital Foundation. \n
URL:https://993theriver.com/event/lockerbies-pumpkin-sale/2018-10-20/
END:VEVENT
END:VCALENDAR